BEGIN:VCALENDAR
VERSION:2.0
PRODID:-//DPS GBN - ECPv6.15.17//NONSGML v1.0//EN
CALSCALE:GREGORIAN
METHOD:PUBLISH
X-ORIGINAL-URL:https://www.dps-gbn.org/new_site
X-WR-CALDESC:Events for DPS GBN
REFRESH-INTERVAL;VALUE=DURATION:PT1H
X-Robots-Tag:noindex
X-PUBLISHED-TTL:PT1H
BEGIN:VTIMEZONE
TZID:Asia/Kolkata
BEGIN:STANDARD
TZOFFSETFROM:+0530
TZOFFSETTO:+0530
TZNAME:IST
DTSTART:20230101T000000
END:STANDARD
END:VTIMEZONE
BEGIN:VEVENT
DTSTART;VALUE=DATE:20240625
DTEND;VALUE=DATE:20240626
DTSTAMP:20260423T015650
CREATED:20240625T105631Z
LAST-MODIFIED:20251203T105920Z
UID:3478-1719273600-1719359999@www.dps-gbn.org
SUMMARY:International Day of Yoga
DESCRIPTION:International Day of Yoga\n\nFitness improves flexibility\, coordination\, balance\, stamina\, strength and much more! We all should aim at fitness being a lifestyle as a healthy body ensures physical and mental well-being. On the occasion of the International Day of Yoga\, DPS\, GBN wishes everyone a Healthy and Happy Day!
URL:https://www.dps-gbn.org/new_site/event/international-day-of-yoga/
LOCATION:DPS\, GBN
CATEGORIES:Home
ATTACH;FMTTYPE=image/jpeg:https://www.dps-gbn.org/new_site/wp-content/uploads/2024/06/06ae0c2e-26c9-421b-bc5e-25daca7163742024-06-251719295875.jpg
END:VEVENT
END:VCALENDAR