BEGIN:VCALENDAR
VERSION:2.0
PRODID:-//DPS GBN - ECPv6.15.17//NONSGML v1.0//EN
CALSCALE:GREGORIAN
METHOD:PUBLISH
X-WR-CALNAME:DPS GBN
X-ORIGINAL-URL:https://www.dps-gbn.org/new_site
X-WR-CALDESC:Events for DPS GBN
REFRESH-INTERVAL;VALUE=DURATION:PT1H
X-Robots-Tag:noindex
X-PUBLISHED-TTL:PT1H
BEGIN:VTIMEZONE
TZID:Asia/Kolkata
BEGIN:STANDARD
TZOFFSETFROM:+0530
TZOFFSETTO:+0530
TZNAME:IST
DTSTART:20230101T000000
END:STANDARD
END:VTIMEZONE
BEGIN:VEVENT
DTSTART;VALUE=DATE:20240711
DTEND;VALUE=DATE:20240712
DTSTAMP:20260423T034012
CREATED:20240711T105016Z
LAST-MODIFIED:20251203T105728Z
UID:3451-1720656000-1720742399@www.dps-gbn.org
SUMMARY:Scholar Badge Ceremony
DESCRIPTION:Scholar Badge Ceremony\n“Victory belongs to the most persevering” -Napoleon Bonaparte \nThe achievers of Class 5\, 6 and 7 Session 2023-24 were felicitated in the Scholar Badge Ceremony held on July 10\, 2024. \nThe Principal lauded the Scholars with her encouraging words of wisdom\, urging everyone to imbibe the competitive spirit and strive for excellence. \nThe ceremony was graced by the presence of Academic Coordinators.\nThe young scholars were brimming with confidence and  enthusiasm.\nIt was indeed a proud moment for the entire Team of DPS\, GBN. \nCongratulations to all the achievers! \n#scholarbadge #awards #schoollife #middleschool #dpsgbn #scholars \n 
URL:https://www.dps-gbn.org/new_site/event/scholar-badge-ceremony/
LOCATION:DPS\, GBN
CATEGORIES:Home
ATTACH;FMTTYPE=image/jpeg:https://www.dps-gbn.org/new_site/wp-content/uploads/2024/07/82024-07-131720849515.jpeg
END:VEVENT
BEGIN:VEVENT
DTSTART;VALUE=DATE:20240711
DTEND;VALUE=DATE:20240712
DTSTAMP:20260423T034012
CREATED:20240711T105737Z
LAST-MODIFIED:20251203T110331Z
UID:3484-1720656000-1720742399@www.dps-gbn.org
SUMMARY:Inter House Skipping & Yoga Competition
DESCRIPTION:Inter House Skipping & Yoga Competition\n“Sport is an essential element of education.”- George A. Sheehan \nSports keep us fit and helps to develop discipline\, dedication and commitment\, which are essential values for success in life. DPS\, GBN conducted Inter House Skipping and Yoga Competitions for Grades 3-5 on the theme\, ’Go for Glory’\, in the month of May and July. Felicitation Ceremony of the same was held on July 9\, 2024. These Inter House Matches aimed to inculcate the importance of Sustainable Development Goal 5: Gender Equality in our Students. These events helped our Students to understand the value of team work and encouraged them to work hard and never give up. \n  \nThe results are as follows: \n\n\n\n\nResult of Skipping Competition Grade 3\n\n\nPosition\nHouse\nGrade 3\n\n\nFirst\nYamuna\nANISHKA MALIK -3G\n\n\nSecond\nChenab\nAADHIRA SINGH -3A\n\n\nSecond\nGanges\nJAYASH SHARMA -3G\n\n\nSecond\nChenab\nSHANAYA BANSAL-3B\n\n\nThird\nSatluj\nVASISTH YADAV -3H\n\n\nThird\nGanges\nAYAANA RATHI -3B\n\n\n\n\n\n\n\nResult of Skipping Competition Grade 4\n\n\nPosition\nHouse\nGrade 4\n\n\nFirst\nGanges\nEKROOP SINGH -4H\n\n\nFirst\nJhelum\nAVYAN GOEL -4A\n\n\nSecond\nRavi\nHANS SATSANGI-4E\n\n\nThird\nGanges\nAVANTIKA RANA -4D\n\n\nThird\nGanges\nAHAAN GUPTA -4A\n\n\nThird\nJhelum\nAYANSH RAJ SINGH -4D\n\n\n\n\n\n\n\nResult of Skipping Competition Grade 5\n\n\nPosition\nHouse\nGrade 5\n\n\nFirst\nRavi\nVAIBHAV -5G\n\n\nSecond\nSatluj\nPANAV GUPTA -5C\n\n\nThird\nGanges\nRISHIT DANG-5C\n\n\nThird\nSatluj\nVARUN SINHA -5E\n\n\nThird\nYamuna\nSANVI SINGH-5H\n\n\n\n  \n\n\n\nResult of Yoga Competition Grade 3\n\n\nPosition\nHouse\nGrade 3\n\n\nFirst\nJhelum\nANSHIKA SONI -3 C\n\n\nFirst\nGanges\nJEEVIKA SINGH – 3 A\n\n\nSecond\nJhelum\nIVAAN BANSAL – 3 E\n\n\nSecond\nRavi\nAVNI CHAUHAN -3 D\n\n\nThird\nChenab\nSIYA SWARUP – 3 E\n\n\n\n\n\n\n\nResult of Yoga Competition Grade 4\n\n\nPosition\nHouse\nGrade 4\n\n\nFirst\nSatluj\nSANVIKA TOMAR – 4 H\n\n\nFirst\nSatluj\nAMYRAH SIDDIQUI – 4 F\n\n\nSecond\nGanges\nARJUN GAUTAM – 4 E\n\n\nThird\nYamuna\nNAVYANSHA KAUSHIK -4 H\n\n\nThird\nYamuna\nSARA WAKAS – 4 A\n\n\n\n\n\n\n\nResult of Yoga Competition Grade 5\n\n\nPosition\nHouse\nGrade 5\n\n\nFirst\nJhelum\nSHANAYA SINGH – 5 F\n\n\nFirst\nGanges\nANYA VAIBHAV – 5 A\n\n\nSecond\nRavi\nPRANAV TIWARI – 5 A\n\n\nSecond\nGanges\nMUKTI SHRIVASTAVA -5 F\n\n\nThird\nJhelum\nMYRA KAKKAR – 5 F\n\n\nThird\nYamuna\nAVNI AGARWAL -5 B\n\n\n\n\n\n\n\n\n\nKudos to all! \n 
URL:https://www.dps-gbn.org/new_site/event/inter-house-skipping-yoga-competition/
LOCATION:DPS\, GBN
CATEGORIES:Home
ATTACH;FMTTYPE=image/jpeg:https://www.dps-gbn.org/new_site/wp-content/uploads/2024/07/IMG-20240516-WA00532024-07-131720849903.jpg
END:VEVENT
END:VCALENDAR