BEGIN:VCALENDAR
VERSION:2.0
PRODID:-//DPS GBN - ECPv6.15.17//NONSGML v1.0//EN
CALSCALE:GREGORIAN
METHOD:PUBLISH
X-ORIGINAL-URL:https://www.dps-gbn.org/new_site
X-WR-CALDESC:Events for DPS GBN
REFRESH-INTERVAL;VALUE=DURATION:PT1H
X-Robots-Tag:noindex
X-PUBLISHED-TTL:PT1H
BEGIN:VTIMEZONE
TZID:Asia/Kolkata
BEGIN:STANDARD
TZOFFSETFROM:+0530
TZOFFSETTO:+0530
TZNAME:IST
DTSTART:20230101T000000
END:STANDARD
END:VTIMEZONE
BEGIN:VEVENT
DTSTART;VALUE=DATE:20240713
DTEND;VALUE=DATE:20240714
DTSTAMP:20260423T034031
CREATED:20240713T102438Z
LAST-MODIFIED:20251203T103156Z
UID:3361-1720828800-1720915199@www.dps-gbn.org
SUMMARY:Goenkan Multilingual Literary Fest - Melange 2024 by GD Goenka Public school G. Noida
DESCRIPTION:Goenkan Multilingual Literary Fest – Melange 2024 by GD Goenka Public school G. Noida\n“The greatest achievement is to outperform yourself” -Denis Waitley \nCompetitions have an essential role in inspiring children to be proactive and sagacious. It provides a whole heap opportunity than just the winning reward. It serves as an elevator towards bigger goals in life. DPS\, GBN feels overwhelmed by the outstanding accomplishments of our young learners\, Janya Siddhartha\, Shubh Shahu of grade 2 and Rishik Sehgal of grade 1 from our Pre-primary wing participated in the event\, AatmaNirbhar Bharta\, Bhartiya Utpado ka Vigyapan. Our gifted brilliant minds not only vividly showcased India’s enduring self- reliance but also the uniqueness of its products in the textile industry. They have bagged 1st position in Goenkan Multilingual Literary Fest- Melange 2024\, an Inter-School Competition organized by G.D Goenka\, G.Noida on 11th July\, 2024. \nThe DPS \,GBN family is proud of the tremendous efforts and achievements of their young scholars. Keep soaring higher! \n 
URL:https://www.dps-gbn.org/new_site/event/goenkan-multilingual-literary-fest-melange-2024-by-gd-goenka-public-school-g-noida/
LOCATION:DPS\, GBN
CATEGORIES:Home
ATTACH;FMTTYPE=image/webp:https://www.dps-gbn.org/new_site/wp-content/uploads/2024/07/13724-02024-07-131720850369.webp
END:VEVENT
BEGIN:VEVENT
DTSTART;VALUE=DATE:20240713
DTEND;VALUE=DATE:20240714
DTSTAMP:20260423T034031
CREATED:20240713T103259Z
LAST-MODIFIED:20251203T103806Z
UID:3393-1720828800-1720915199@www.dps-gbn.org
SUMMARY:Younglings Internship Program 2024
DESCRIPTION:Younglings Internship Program 2024\n“Perseverance is the act of true champions.” – Richelle E. Goodrich \n  \nShriyash Aditya of IX H got the opportunity to live his dream to experience the process and techniques behind the magic created by the eminent scientist at Indian Space Research Organization as he was amongst the top 100 Students across India who had qualified Science Promotion Orient Test conducted by Vikram Sarabhai Science Foundation and earned the Sarabhai Younglings Internship Program 2024 conducted from June 14 to June 17\, 2024. \nThe 4-days internship focused on: \n– Destination Visit to ISRO Telemetry Tracking and Command Centre. \n– Visit to the museum of Hindustan Aeronautical Limited to observe the journey through India’s six decades of aviation growth. \n-Visit to Vishwesharayya Industrial and Technological Museum to experience the science journey into multidisciplinary science\, emerging technology in the service of mankind. \n-Planetarium visit – A peek into the dawn of the universe \n– Hands-on Session Stand: Aerospace Modelling conducted by: IIT Madras RTBI Incubation Unit \nShriyash received his SPOT-100 medal and Internship Certificate from Ms Suchitra Shyjinth\, Director Vikram Sarabhai Science Foundation. \nThis internship would be a driving force for Shriyash to fulfill his future aims\, wishing him all the very best. \n 
URL:https://www.dps-gbn.org/new_site/event/younglings-internship-program-2024/
LOCATION:DPS\, GBN
CATEGORIES:Home
ATTACH;FMTTYPE=image/jpeg:https://www.dps-gbn.org/new_site/wp-content/uploads/2024/07/shriyash_22024-07-131720850800.jpg
END:VEVENT
END:VCALENDAR