BEGIN:VCALENDAR
VERSION:2.0
PRODID:-//DPS GBN - ECPv6.15.17//NONSGML v1.0//EN
CALSCALE:GREGORIAN
METHOD:PUBLISH
X-WR-CALNAME:DPS GBN
X-ORIGINAL-URL:https://www.dps-gbn.org/new_site
X-WR-CALDESC:Events for DPS GBN
REFRESH-INTERVAL;VALUE=DURATION:PT1H
X-Robots-Tag:noindex
X-PUBLISHED-TTL:PT1H
BEGIN:VTIMEZONE
TZID:Asia/Kolkata
BEGIN:STANDARD
TZOFFSETFROM:+0530
TZOFFSETTO:+0530
TZNAME:IST
DTSTART:20230101T000000
END:STANDARD
END:VTIMEZONE
BEGIN:VEVENT
DTSTART;VALUE=DATE:20240723
DTEND;VALUE=DATE:20240724
DTSTAMP:20260423T033952
CREATED:20240723T095833Z
LAST-MODIFIED:20251203T100117Z
UID:3243-1721692800-1721779199@www.dps-gbn.org
SUMMARY:Trashion- (Fashion+ Trash show)
DESCRIPTION:Trashion- (Fashion+ Trash show)\n\nWe at DPS GBN\, thrive to cater to the all-round development of our children. Keeping the same spirit in mind and to encourage our young dipsites\, Trashion competition was conducted on Tuesday\, July 16\, 2024 and Thursday\, July 18\,2024. The objective was not only to enhance their confidence to express their thoughts but also to make them aware about the concepts of recycle and reuse. The ideas shared by children were amazing and helpful. The talented dipsites were motivated enough to present such a beautiful trashion show.
URL:https://www.dps-gbn.org/new_site/event/trashion-fashion-trash-show/
LOCATION:DPS\, GBN
CATEGORIES:Home
ATTACH;FMTTYPE=image/jpeg:https://www.dps-gbn.org/new_site/wp-content/uploads/2024/07/Trashion_Competition_Report_Grade_2_12024-07-231721735267.jpeg
END:VEVENT
END:VCALENDAR