BEGIN:VCALENDAR
VERSION:2.0
PRODID:-//DPS GBN - ECPv6.15.17//NONSGML v1.0//EN
CALSCALE:GREGORIAN
METHOD:PUBLISH
X-WR-CALNAME:DPS GBN
X-ORIGINAL-URL:https://www.dps-gbn.org/new_site
X-WR-CALDESC:Events for DPS GBN
REFRESH-INTERVAL;VALUE=DURATION:PT1H
X-Robots-Tag:noindex
X-PUBLISHED-TTL:PT1H
BEGIN:VTIMEZONE
TZID:Asia/Kolkata
BEGIN:STANDARD
TZOFFSETFROM:+0530
TZOFFSETTO:+0530
TZNAME:IST
DTSTART:20220101T000000
END:STANDARD
END:VTIMEZONE
BEGIN:VEVENT
DTSTART;VALUE=DATE:20240515
DTEND;VALUE=DATE:20240516
DTSTAMP:20260423T130601
CREATED:20240515T105358Z
LAST-MODIFIED:20251203T105611Z
UID:3463-1715731200-1715817599@www.dps-gbn.org
SUMMARY:Masked Marvels
DESCRIPTION:Masked Marvels\n\nAt DPS GBN\, we believe in cultivating environmental awareness. In line with this vision\, students of grade 2 indulged themselves in mask making activity under the Sustainable Development Goal 15 (Life On Land) on May 7\, 2024. Children were encouraged about the Save the Tiger campaign. They understood how tigers are important for ecological balance. The activity served as an area about the threats of climate change on tigers and proposed imbalance it is creating. They also came to know about the positive and visible outcome of this campaign which really saved them from becoming extinct animal. It empowered students to become advocates for the change within our communities.
URL:https://www.dps-gbn.org/new_site/event/masked-marvels/
LOCATION:DPS\, GBN
CATEGORIES:Home
ATTACH;FMTTYPE=image/webp:https://www.dps-gbn.org/new_site/wp-content/uploads/2024/05/Masked_Marvels_Activity_Report_32024-05-151715771245.webp
END:VEVENT
BEGIN:VEVENT
DTSTART;VALUE=DATE:20240515
DTEND;VALUE=DATE:20240516
DTSTAMP:20260423T130601
CREATED:20240515T101752Z
LAST-MODIFIED:20251203T102015Z
UID:3324-1715731200-1715817599@www.dps-gbn.org
SUMMARY:Summer Party
DESCRIPTION:Summer Party\n\nOn 8th May\,2024\, DPS GBN\, hosted Summer Party for Early buds and K1. The event brought joy and excitement to our little ones\, celebrating the warmth of summer with fun activities and delightful treats. Children were dressed up in colorful summer attire and enjoyed popcorns with friends. A designated area was set up where children enjoyed games and had fun in splash pool. The addition of props related to summer and the beach enhanced the fun atmosphere. The Summer Party was a delightful occasion filled with laughter\, play and wonderful summer vibes! The children thoroughly enjoyed the activities and treats provided\, creating lasting memories of a fantastic summer celebration.
URL:https://www.dps-gbn.org/new_site/event/summer-party/
LOCATION:DPS\, GBN
CATEGORIES:Home
ATTACH;FMTTYPE=image/webp:https://www.dps-gbn.org/new_site/wp-content/uploads/2024/05/fa8e7a8b-ae31-45d2-898d-5b7b0c8f5b4e2024-05-151715771836.webp
END:VEVENT
BEGIN:VEVENT
DTSTART;VALUE=DATE:20240515
DTEND;VALUE=DATE:20240516
DTSTAMP:20260423T130601
CREATED:20240515T101121Z
LAST-MODIFIED:20251203T101433Z
UID:3302-1715731200-1715817599@www.dps-gbn.org
SUMMARY:Book Week- Readathon
DESCRIPTION:Book Week- Readathon\n\n“There is more treasure in books than in all the Pirate’s loot on treasure island”.  -Walt Disney                \n“There is no friend as loyal as a book”. To highlight the importance of reading to our budding nation DPS GBN organized a special week Book Week- Readathon for grade 1 and 2 from May 7\, 2024 to May 9\, 2024. \nOn the first day\, we celebrated birthday to commemorate the eminent Bengali Poet ‘Sri Rabindranath Tagore’ and telling children about his life\, journey\, influential writings and literacy contribution in English. On next day of Book Week- Readathon\, different story books were given to children to nurture the habit of reading\, oratory abilities and critical writings. The week concluded with designing of a book review form for the story they pleased reading. It provided hands-on experiences which resulted in reading and writing proficiency of the children.
URL:https://www.dps-gbn.org/new_site/event/book-week-readathon-2/
LOCATION:DPS\, GBN
CATEGORIES:Home
ATTACH;FMTTYPE=image/webp:https://www.dps-gbn.org/new_site/wp-content/uploads/2024/05/Book_Week-_Readathon_22024-05-151715771478.webp
END:VEVENT
BEGIN:VEVENT
DTSTART;VALUE=DATE:20240514
DTEND;VALUE=DATE:20240515
DTSTAMP:20260423T130601
CREATED:20240514T102031Z
LAST-MODIFIED:20251203T102233Z
UID:3339-1715644800-1715731199@www.dps-gbn.org
SUMMARY:Moms are Marvellous
DESCRIPTION:Moms are Marvellous\n\n“Mothers hold their children’s hands for a short while\, but their hearts forever.”- Anonymous  \nIn commemoration of Mother’s Day on May 10\, 2024\, Grade K2 students of DPSGBN\, organized a touching event entitled ‘Moms are Marvellous.’ Upon arrival\, the mothers were greeted with warmth and affection as the children serenaded them with a charming welcome song\, reflecting the palpable joy in their presence. As the mothers graced the stage for Fashion show\, adorned with tiaras bestowed upon them by their beloved children\, the ambience exuded a warming atmosphere of love andappreciation.Throughout the event\, mothers enthusiastically participated in various fun filled activities\, fostering a sense of camaraderie and celebration. The culmination of the festivities was marked by a captivating dance performance by the children\, serving as a heartfelt expression of gratitude and admiration for their exceptional mothers. Through their heartfelt gestures and spirited performances\, the children conveyed the profound impact of maternal love and guidance\, making the event a truly memorable tribute to the remarkable women who shape their lives.
URL:https://www.dps-gbn.org/new_site/event/moms-are-marvellous/
LOCATION:DPS\, GBN
CATEGORIES:Home
ATTACH;FMTTYPE=image/webp:https://www.dps-gbn.org/new_site/wp-content/uploads/2024/05/05a8e716-46a1-401c-894f-76274be88d792024-05-141715674034.webp
END:VEVENT
BEGIN:VEVENT
DTSTART;VALUE=DATE:20240507
DTEND;VALUE=DATE:20240508
DTSTAMP:20260423T130601
CREATED:20240507T102252Z
LAST-MODIFIED:20251203T102507Z
UID:3352-1715040000-1715126399@www.dps-gbn.org
SUMMARY:Inter House Hindi Declamation Competition
DESCRIPTION:Inter House Hindi Declamation Competition\n\n“Health is the greatest possession.’’ – Laozi \nAn Inter House Hindi Declamation Competition was organized for the Students of Grade 5 on the theme ‘Health is Wealth’ on May 3\, 2024.This competition aimed to enhance the oratory skills of our Young Speakers and to spread awareness about the benefits of good health and a healthy life style. All the participants performed with great zeal and confidence. \nThe results are as follows: \nGanges House               First position \nRavi House                    Second Position \nJhelum House               Second Position \nYamuna House              Third Position \nBest Speaker               Viraj Kochhar \nKudos to all the winners! Keep up the good work!
URL:https://www.dps-gbn.org/new_site/event/inter-house-hindi-declamation-competition-2/
LOCATION:DPS\, GBN
CATEGORIES:Home
ATTACH;FMTTYPE=image/webp:https://www.dps-gbn.org/new_site/wp-content/uploads/2024/05/IMG-20240503-WA00372024-05-071715065921.webp
END:VEVENT
BEGIN:VEVENT
DTSTART;VALUE=DATE:20240501
DTEND;VALUE=DATE:20240502
DTSTAMP:20260423T130601
CREATED:20240501T102532Z
LAST-MODIFIED:20251203T102806Z
UID:3363-1714521600-1714607999@www.dps-gbn.org
SUMMARY:Scholar Badge Ceremony\, Session 2023-24
DESCRIPTION:Scholar Badge Ceremony\, Session 2023-24\n\nDPS\, GBN Students- Winners all the Way \nIt was a moment of pride for all as the Primary wing of DPS\, GBN organized the Scholar Badge Ceremony on April 30\, 2024\, with great enthusiasm and zeal. The day was marked with a proud moment for the meritorious students from Grades 3 and 4(Session 2023-24)\, as they were felicitated with Scholar Badges and Proficiency Certificates by the Principal\, Ms. Supriti Chauhan\, who appreciated their achievements. The soulful rendition by the School Choir charmed everyone\, while the talented dancers drew a heartening applause with their graceful presentation. All Students present were motivated and this celebratory occasion was indeed a reflection of dedication and commitment and a shining example for all the young students. \nHeartiest congratulations to our young students for their remarkable achievements!
URL:https://www.dps-gbn.org/new_site/event/scholar-badge-ceremony-session-2023-24/
LOCATION:DPS\, GBN
CATEGORIES:Home
ATTACH;FMTTYPE=image/jpeg:https://www.dps-gbn.org/new_site/wp-content/uploads/2024/05/Scholar_Badge_Ceremony_Report_42024-05-011714561969.jpeg
END:VEVENT
BEGIN:VEVENT
DTSTART;VALUE=DATE:20240425
DTEND;VALUE=DATE:20240426
DTSTAMP:20260423T130601
CREATED:20240425T103416Z
LAST-MODIFIED:20251203T103638Z
UID:3396-1714003200-1714089599@www.dps-gbn.org
SUMMARY:Indo-German Student Exchange Programme- 2024
DESCRIPTION:Indo-German Student Exchange Programme- 2024\n\n“Knowledge of languages is the doorway to wisdom.” ― Roger Bacon \nIndo-German Student Exchange Conducted Successfully at DPS\, GBN \nA foreign language is considered as the key to growth and understanding the globally diverse world. DPS\, GBN students study foreign languages to gain a better understanding of varied cultures and unfamiliar customs of the world. \nCultural Exchange Programmes not only propel students to understand the diversity of the country\, but also make them learn how to co-exist and feel compassion for different communities around. \n  \n11 students and 2 mentors from German International School Dubai visited DPS\, GBN under a reciprocal Student Exchange Programme from April 16- April 23\, 2024. It was a unique opportunity for them to observe Indian culture closely. \nThe German students’ trips to Jaipur\, Agra and Delhi offered them a rich immersion in Indian culture and history. Exploring landmarks like Amber Fort and the Taj Mahal made a lasting impression on their visit to our country. The colourful attires and lip smacking delicacies added to the attractions. \nThe trip to Jaipur was successful in familiarising the German students with the rich\, technicolour culture of India and was also a source of unbridled felicity. \nEffectively capturing the vivacious essence of Rajasthani culture\, Chokhi Dhani provided a unique experience to the visitors. Hundreds of candles illuminate the scene with their impalpable luminescence and the various traditional activities like puppet-shows\, folk dances etc made it a worthwhile experience. \nThe Exchange Programme marked the continuation of a long-lasting friendship across continents. This meticulously crafted programme blended educational experience with fun and entertainment. Every year\, it fosters enduring friendships among student partners\, giving a fresh impetus to the school’s endeavour to expand its exchange base and give the students an opportunity to explore new parts of the world.
URL:https://www.dps-gbn.org/new_site/event/indo-german-student-exchange-programme-2024/
LOCATION:DPS\, GBN
CATEGORIES:Home
ATTACH;FMTTYPE=image/webp:https://www.dps-gbn.org/new_site/wp-content/uploads/2024/04/WELCOME_12024-04-251714050949.webp
END:VEVENT
BEGIN:VEVENT
DTSTART;VALUE=DATE:20240425
DTEND;VALUE=DATE:20240426
DTSTAMP:20260423T130601
CREATED:20240425T102825Z
LAST-MODIFIED:20251203T103358Z
UID:3375-1714003200-1714089599@www.dps-gbn.org
SUMMARY:Green Footprints (Special Week)
DESCRIPTION:Green Footprints (Special Week)\n\n“Together we can preserve the forest\, securing this immense treasure for the future of all these children.”— Chico Mendes \nTo contend climate change and bring awareness to the Earth’s current situation\, our little warriors celebrated a special week with a lot of zeal and enthusiasm. They promoted responsible consumption by making and decorating pen stand out of waste material. They also presented their views on importance of water through a Poster Making Activity on the theme ‘Save Water’. They were explained the 5R’s Reduce\, Reuse\, Recycle\, Refuse and Repurpose with the help of the videos during online class. These activities aimed to educate them about the problems faced by the Earth and make them aware of SDG- 12 ‘Responsible Consumption and Production’\, SDG – 14 ‘Life Below Water’ and SDG-15 ‘Life on Land’.
URL:https://www.dps-gbn.org/new_site/event/green-footprints-special-week/
LOCATION:DPS\, GBN
CATEGORIES:Home
ATTACH;FMTTYPE=image/jpeg:https://www.dps-gbn.org/new_site/wp-content/uploads/2024/04/3886db7c-57cf-4df0-9e67-8ea1744e79782024-04-251714050719.jpg
END:VEVENT
BEGIN:VEVENT
DTSTART;VALUE=DATE:20240424
DTEND;VALUE=DATE:20240425
DTSTAMP:20260423T130601
CREATED:20240424T103648Z
LAST-MODIFIED:20251203T103939Z
UID:3403-1713916800-1714003199@www.dps-gbn.org
SUMMARY:Special Week ‘Green Footprints’
DESCRIPTION:Special Week ‘Green Footprints’\n\nOur planet is a source of inspiration and hope for humanity – a place where we find life and happiness. Mother Earth provides us with priceless inspiring moments and we at DPS\, GBN captured a few moments with the children on this ‘Earth Day’ to appreciate the beauty of our planet and the magic it brings to our lives every day. \nKeeping the theme in mind\, ‘Planet vs. Plastics’\, which aims to raise awareness of the harms of plastic pollution for human and planetary health\, Students enjoyed a plethora of activities like Poster Making\, Quiz\, Videos\, etc\, to understand about it better. Learning is an ever-evolving journey that enriches our understanding and fuels our curiosity\, thus\, students enjoyed learning about ‘Sustainability’\, which means using natural products and energy in a way that does not harm the environment and ‘Green footprints’\, which are like little actions we take to help the environment like turning off lights when we leave a room\, recycling our trash\, or planting trees. These actions show that we care about our planet and want to keep it clean and healthy. So\, Dipsites took a pledge and are ready to do things that are good for the nature!
URL:https://www.dps-gbn.org/new_site/event/special-week-green-footprints/
LOCATION:DPS\, GBN
CATEGORIES:Home
ATTACH;FMTTYPE=image/jpeg:https://www.dps-gbn.org/new_site/wp-content/uploads/2024/04/PHOTO-2024-04-18-20-02-04_12024-04-241713939980.jpg
END:VEVENT
BEGIN:VEVENT
DTSTART;VALUE=DATE:20240423
DTEND;VALUE=DATE:20240424
DTSTAMP:20260423T130601
CREATED:20240423T104316Z
LAST-MODIFIED:20251203T104524Z
UID:3426-1713830400-1713916799@www.dps-gbn.org
SUMMARY:Earth Day
DESCRIPTION:Earth Day\n\n“Earth Day should encourage us to reflect on what we are doing to make our planet a more sustainable and liveable place”     – Scott Peters                                          \nThe online Earth Day celebration at DPS-GBN was a resounding success. Held on April 22\, 2024\, it fostered a sense of environmental consciousness and responsibility among the young learners of Grades Nursery\, K1 and K2. Array of creative online activities were organised whereas tiny tots from Grade Nursery designed recycled paper bags\, children from K1 created beautiful Earth Day craft and did plantation\, followed by the students of K2 wholeheartedly indulged themselves by making seed bombs etc\, were the highlights of the celebration. Our children gained a deeper appreciation for the Earth and the importance of preserving its beauty for future generations. They were addressed and reiterated by the importance of 3 R’s- Reduce\, Reuse and Recycle. This served as one more leaf to the school’s dedication of nurturing not only young minds but also an affection for the planet we call as home for all. The goal was to celebrate sensitivity towards our Mother Earth and create a memorable experience for our children\, fostering a playful and light-hearted atmosphere that left lasting smiles on both the kids and their teachers even parents too.
URL:https://www.dps-gbn.org/new_site/event/earth-day/
LOCATION:DPS\, GBN
CATEGORIES:Home
ATTACH;FMTTYPE=image/webp:https://www.dps-gbn.org/new_site/wp-content/uploads/2024/04/Earth_Day_Celebration_12024-04-231713855522.webp
END:VEVENT
BEGIN:VEVENT
DTSTART;VALUE=DATE:20240422
DTEND;VALUE=DATE:20240423
DTSTAMP:20260423T130601
CREATED:20240422T104546Z
LAST-MODIFIED:20251203T105000Z
UID:3441-1713744000-1713830399@www.dps-gbn.org
SUMMARY:Junior School Student Council Selection (2024-25)
DESCRIPTION:Junior School Student Council Selection (2024-25)\n\nLeadership skills are the strengths and abilities that an individual demonstrate\, which helps and guides them towards achieving their goals. Leadership traits includes honesty\, commitment\, confidence and creativity. The School believes to give ample opportunities to its students and thus the Student Council conducted the Elections in the month of April. Many rounds were conducted such as Filling of the Nomination form\, Interview with Principal ma’am and Coordinator ma’am (III-V)\, Campaigning and Voting. With great zeal and enthusiasm\, Students of Grade 5 casted their votes and elected their leaders for the session 2024-25. The Election process created awareness about the elections\, voting\, democracy\, and the rights and duties of a good citizen. \nThe results are as follows- \nJunior Head Boy : Mr Palash Kaundal\, won by 107 votes \nJunior Head Girl: Ms Titeeksha Upadhyaya\, won by 89 votes.
URL:https://www.dps-gbn.org/new_site/event/junior-school-student-council-selection-2024-25/
LOCATION:DPS\, GBN
CATEGORIES:Home
ATTACH;FMTTYPE=image/webp:https://www.dps-gbn.org/new_site/wp-content/uploads/2024/04/142024-04-221713783609.webp
END:VEVENT
BEGIN:VEVENT
DTSTART;VALUE=DATE:20240410
DTEND;VALUE=DATE:20240411
DTSTAMP:20260423T130601
CREATED:20240410T105029Z
LAST-MODIFIED:20251203T105312Z
UID:3452-1712707200-1712793599@www.dps-gbn.org
SUMMARY:Awakening the Teachers Workshop
DESCRIPTION:Awakening the Teachers Workshop\n\n“Education is the manifestation of the perfection already in man.” – Swami Vivekananda \nIt’s not just the students who are there to learn\, a teacher also keeps learning throughout his/her teaching journey. Teachers of Grades 1 and 2 of DPS\, GBN got an opportunity to attend an innovative\, fruitful\, and informative workshop based on ‘Awakening the Teachers’ organized by Rama Krishna Mission\, Gurugram on Saturday\, April 6\, 2024. The main focus of this workshop was to transform the teachers as facilitators to inculcate values and ethos in the children of the primary age group. The need to provide an environment where teachers motivate their students to speak freely\, teachers allow free discussion without judgement\, and a child is free to express himself/herself without any fear of criticism or failure was emphasized during the workshop. The programme was based on four value pillars- Sharing and Caring\, Being Respectful\, Facing Challenges\, and Doing Our Best -to make students socially responsible and socially aware. The programme also depended upon four-pronged approaches: Explore\, Find\, Choose\, and Adopt. The workshop followed the ideas and education of Swami Vivekananda and provided thoughtful learning to everyone.
URL:https://www.dps-gbn.org/new_site/event/awakening-the-teachers-workshop/
LOCATION:DPS\, GBN
CATEGORIES:Home
ATTACH;FMTTYPE=image/jpeg:https://www.dps-gbn.org/new_site/wp-content/uploads/2024/04/IMG-20240406-WA00052024-04-101712739030.jpg
END:VEVENT
BEGIN:VEVENT
DTSTART;VALUE=DATE:20230423
DTEND;VALUE=DATE:20230424
DTSTAMP:20260423T130601
CREATED:20240423T103956Z
LAST-MODIFIED:20251203T104213Z
UID:3418-1682208000-1682294399@www.dps-gbn.org
SUMMARY:Planet Protectors
DESCRIPTION:Planet Protectors\n\nDPS GBN celebrated Earth Day online on April 22nd\, 2024\, with incredible enthusiasm and a deep commitment to environmental conservation and sustainability. The event was a fantastic initiative aimed at raising awareness among our students about the importance of protecting our planet. The highlight of the day was coloring activity\, where our tiny tots coloured Mother Earth on a worksheet. Also\, they displayed their love through sowing seeds and watering the plants at home. We’re proud of our students for embracing creativity while learning about the significance of Earth Day! Let’s join forces to cultivate a sustainable tomorrow!
URL:https://www.dps-gbn.org/new_site/event/planet-protectors/
LOCATION:DPS\, GBN
CATEGORIES:Home
ATTACH;FMTTYPE=image/jpeg:https://www.dps-gbn.org/new_site/wp-content/uploads/2024/04/4306ecc6-44b3-485c-b607-e0d6c1f4143f2024-04-231713855291.jpg
END:VEVENT
END:VCALENDAR