BEGIN:VCALENDAR
VERSION:2.0
PRODID:-//DPS GBN - ECPv6.15.17//NONSGML v1.0//EN
CALSCALE:GREGORIAN
METHOD:PUBLISH
X-ORIGINAL-URL:https://www.dps-gbn.org/new_site
X-WR-CALDESC:Events for DPS GBN
REFRESH-INTERVAL;VALUE=DURATION:PT1H
X-Robots-Tag:noindex
X-PUBLISHED-TTL:PT1H
BEGIN:VTIMEZONE
TZID:Asia/Kolkata
BEGIN:STANDARD
TZOFFSETFROM:+0530
TZOFFSETTO:+0530
TZNAME:IST
DTSTART:20240101T000000
END:STANDARD
END:VTIMEZONE
BEGIN:VEVENT
DTSTART;VALUE=DATE:20251226
DTEND;VALUE=DATE:20251227
DTSTAMP:20260423T235914
CREATED:20251227T163707Z
LAST-MODIFIED:20251227T163759Z
UID:3544-1766707200-1766793599@www.dps-gbn.org
SUMMARY:Fashion Streak Activity
DESCRIPTION:Fashion Streak Activity\n\n“Fashion is fun when you can be yourself\, play\, and shine in your own little way!”\n— \nAnonymous\n\n  \nOur Early Buds & Nursery students at DPS-GBN recently participated in a ‘Fashion Streak – Bollywood Retro Theme’ activity. The children wore retro-style outfits with fun hairstyles and real flower accessories\, such as headbands and wristbands. The event encouraged creativity\, self-expression\, and confidence among the children while offering a colourful\, lively theme. In line with NEP 2020\, the activity promoted holistic development by nurturing cognitive\, social\, emotional\, and aesthetic skills\, fostering experiential learning\, eco-friendly practices\, and active school-home collaboration. The children’s enthusiastic participation made the event enjoyable\, memorable\, and a valuable learning experience. \n 
URL:https://www.dps-gbn.org/new_site/event/fashion-streak-activity/
LOCATION:DPS\, GBN
CATEGORIES:Home
ATTACH;FMTTYPE=image/jpeg:https://www.dps-gbn.org/new_site/wp-content/uploads/2025/12/42025-12-261766759042.jpeg
END:VEVENT
END:VCALENDAR